Workbook
Name Slicer_Brand: #N/A
Name Slicer_Exclusive: #N/A
Name Slicer_Family: #N/A
Name Slicer_Status: #N/A
Name Slicer_Subfamily_ML: #N/A
Name Slicer_Type: #N/A

Sheet SKU Pivot
A3: Status | B3: Sum of MAP
A4: Current | B4: 30797.7
A5: NEW | B5: 13609.424
A6: Phaseout | B6: 19013
A7: Grand Total | B7: 63420.124

Sheet FINISHED GOODS
A1: Family | B1: Subfamily ML | C1: SKU Number | D1: Product Name | E1: UPC | F1: Status | G1: Ranking | H1: MAP Base Calculation for Pricing | I1: Enforced MAP Price | J1: MSRP | K1: Brand | L1: Type | M1: Package Type | N1: Weight | O1: Height | P1: Length | Q1: Width | R1: CountryOrigin | S1: USScheduleB | T1: DescriptionParagraph | U1: Bullet Point 1 | V1: Bullet Point 2 | W1: Bullet Point 3 | X1: Bullet Point 4 | Y1: Bullet Point 5 | Z1: Bullet Point 6 | AA1: Bullet Point 7 | AB1: Bullet Point 8 | AC1: Battery | AD1: Tritium | AE1: Prop65 Warning Type | AF1: Prop65 Package Warning | AG1: Prop65 Digital Media Warning | AH1: Image 1 | AI1: Image 2 | AJ1: Image 3 | AK1: Image 4 | AL1: Image 5 | AM1: Written Instructions | AN1: Install Video
A2: AR | B2: =_xlfn.XLOOKUP(C2,'Kit to Family'!A:A,'Kit to Family'!G:G) -> Rear / Front Full Tritium | C2: AR-0008-6 | D2: XTI2 DXT Standard Dot | E2: 647533009416 | F2: Current | H2: 194.99 | I2: 194.99 | J2: =ROUNDUP(H2*1.1,0)-0.01 -> 214.99 | K2: AR | L2: AR | M2: Clamshell | N2: 0.3 | O2: 8 | P2: 5 | Q2: 1.5 | R2: USA | S2: 9305.20.9500 | T2: XS XTI2 sights are a close-quarters, secondary sighting solution for a fast sight transition from a magnified primary optic. XTI2 sights reduce target engagement time and eliminate magnification adjustment. Our second generation XTI’s feature taller bases for easy sight alignment, without having to break a standard cheek weld. Additionally, the base angle has been increased to accommodate wider lens optics. DXT Standard Dot version features a tritium front sight that measures 0.140" wide and a straight-line, tritium stripe, express sight picture. XTI2 express sights are ideal for 3-gun competitions. XTI2 sight sets are mounted in front of the optic to reduce snagging gear on chest rigs. 3-gun matches cover distances from short to long distances. XTI2 sights are pistol sights designed for pistol length distances where magnified optics make target identification more difficult. XTI2 sights ship with thread locker and a front sight adjustment tool. The rear sight is installed, but not sealed in place to allow for easy windage adjustment. Thread locker will need to be applied after the rifle is zeroed. | U2: Standard Dot tritium front with white dot | V2: Tritium Stripe rear sight | W2: Rear sight is driftable allowing easy windage adjustability | X2: 6061 T6 Aluminum Bases keeps rifle weight as light as possible | Y2: Fully Ambidextrous Front and rear sight can be rotated for left handed shooting | Z2: CNC Steel Iron Sights Extremely durable for duty use | AA2: Limited Lifetime Warranty | AB2: Easy Bolt on installation to top rail allows for fitment on all optic ready AR-15 rifles | AC2: No | AD2: Yes | AE2: Lead | AF2: Warning Cancer and Reproductive Harm - www.p65warnings.ca.gov | AG2: WARNING-Cancer and Reproductive Harm – www.P65Warnings.ca.gov | AH2: https://www.dropbox.com/s/w1prh8xiz1silpi/AR-0008-6%20top-angle%2020200918.png?dl=0 | AJ2: https://www.dropbox.com/s/r0z93rv7ecub65v/AR-0008-6%20back%2020200918.png?dl=0 | AK2: https://www.dropbox.com/s/ilzj7qcz6hw33ar/AR-0008-6%20composite%2020200918.png?dl=0 | AM2: https://xssights.com/content/Install%20Instructions/XTI%20instructions.pdf | AN2: https://www.youtube.com/watch?v=Iwkwqz34i8U
A3: AR | B3: =_xlfn.XLOOKUP(C3,'Kit to Family'!A:A,'Kit to Family'!G:G) -> Front Tritium | C3: AR-2001-3 | D3: Big Dot Tritium Front- AR Mil-Spec | E3: 647533043854 | F3: Current | H3: 79.99 | I3: 79.99 | J3: =ROUNDUP(H3*1.1,0)-0.01 -> 87.99 | K3: AR | L3: AR | M3: Pouch | N3: 0.15 | O3: 5.5 | P3: 5 | Q3: 0.5 | R3: USA | S3: 9305.20.9500 | T3: XS Big Dot Tritium front sight for the AR features precision machined stress proof steel, a white ring, and green tritium center for visibility in any lighting condition. Outside Diameter Standard Dot 0.188". Each full rotation of front sight gives a 5" shift at 100 yards. Made in the USA. Fits AR front sight housing with front sight detent at 3, 6, or 9 o'clock. | U3: Steel sight with blued finish | V3: Green tritium | W3: White ring front | X3: Limited Lifetime Warranty | AC3: No | AD3: Yes | AE3: Lead | AF3: Warning Cancer and Reproductive Harm - www.p65warnings.ca.gov | AG3: WARNING-Cancer and Reproductive Harm – www.P65Warnings.ca.gov | AH3: https://www.dropbox.com/s/epmjw72gbcimx48/AR-2001-3_angle%2020201202.jpg?dl=0 | AI3: https://www.dropbox.com/s/7hhig6ru8ojatoo/AR-2001-3_angle2%2020201202.jpg?dl=0 | AJ3: https://www.dropbox.com/s/lg5qdrs6k5a39xq/AR-2001-3_side%2020201202.jpg?dl=0 | AM3: https://xssights.com/content/Install%20Instructions/AR15%20A2%20Front%20and%20Fine%20Tune%20Instructions.pdf
A4: AR | B4: =_xlfn.XLOOKUP(C4,'Kit to Family'!A:A,'Kit to Family'!G:G) -> Front Tritium | C4: AR-2001-4 | D4: Standard Dot Tritium Front - AR | E4: 647533026406 | F4: Current | H4: 79.99 | I4: 79.99 | J4: =ROUNDUP(H4*1.1,0)-0.01 -> 87.99 | K4: AR | L4: AR | M4: Pouch | N4: 0.15 | O4: 5.5 | P4: 5 | Q4: 0.5 | R4: USA | S4: 9305.20.9500 | T4: XS Standard Dot Tritium front sight for the AR features precision machined stress proof steel, a white ring, and green tritium center for visibility in any lighting condition. Outside Diameter Standard Dot 0.140". Each full rotation of front sight gives a 5" shift at 100 yards. Made in the USA. Fits AR front sight housing with front sight detent at 3, 6, or 9 o'clock. | U4: Steel sight with blued finish | V4: Green tritium | W4: White ring front | X4: Limited Lifetime Warranty | AC4: No | AD4: Yes | AE4: Lead | AF4: Warning Cancer and Reproductive Harm - www.p65warnings.ca.gov | AG4: WARNING-Cancer and Reproductive Harm – www.P65Warnings.ca.gov | AH4: https://www.dropbox.com/s/gfondufg6pvi32e/AR-2001-4_angle.jpg?dl=0 | AM4: https://xssights.com/content/Install%20Instructions/AR15%20A2%20Front%20and%20Fine%20Tune%20Instructions.pdf
A5: AR | B5: =_xlfn.XLOOKUP(C5,'Kit to Family'!A:A,'Kit to Family'!G:G) -> Front Tritium | C5: AR-2001-6 | D5: Tritium Stripe Front - AR Mil-Spec | E5: 647533034203 | F5: Current | H5: 79.99 | I5: 79.99 | J5: =ROUNDUP(H5*1.1,0)-0.01 -> 87.99 | K5: AR | L5: AR | M5: Pouch | N5: 0.15 | O5: 5.5 | P5: 5 | Q5: 0.5 | R5: USA | S5: 9305.20.9500 | T5: XS Tritium stripe front sight for the AR features precision machined stress proof steel, a vertical tritium vial, and white outline to provide front sight visibility in any lighting condition. 0.105" square top post. Each full rotation of front sight gives a 5" shift at 100 yards. Made in the USA. Fits AR front sight housing with front sight detent at 3, 6, or 9 o'clock. | U5: Steel sight with blued finish | V5: Green tritium | W5: White paint outline | X5: Limited Lifetime Warranty | AC5: No | AD5: Yes | AE5: Lead | AF5: Warning Cancer and Reproductive Harm - www.p65warnings.ca.gov | AG5: WARNING-Cancer and Reproductive Harm – www.P65Warnings.ca.gov | AH5: https://www.dropbox.com/s/x7sqi68ol19fuqi/AR-2001-6%20AR%20247%20Post.jpg?dl=0 | AI5: https://www.dropbox.com/s/6bfojjcfpx4rx80/AR-2001-6%20AR%20247%20Post%20Low2.jpg?dl=0 | AJ5: https://www.dropbox.com/s/jybq4emxnnou8ov/AR-2001-6_angle%2020201201.jpg?dl=0 | AM5: https://xssights.com/content/Install%20Instructions/AR15%20A2%20Front%20and%20Fine%20Tune%20Instructions.pdf
A6: AR | B6: =_xlfn.XLOOKUP(C6,'Kit to Family'!A:A,'Kit to Family'!G:G) -> Std | C6: AR-2004-9 | D6: CSAT Rear - AR Mil-Spec | E6: 647533038454 | F6: Current | H6: 51.24 | I6: 51.24 | J6: =ROUNDUP(H6*1.1,0)-0.01 -> 56.99 | K6: AR | L6: AR | M6: Pouch | N6: 0.1 | O6: 5.5 | P6: 5 | Q6: 0.5 | R6: USA | S6: 9305.20.9500 | T6: Master Sgt. Paul Howe's (USA - Ret.) CSAT aperture provides the shooter with both a traditional notch and post for a 7 yard zero, plus a small aperture for a 100 yard zero, allowing the shooter to account for the 2.5" offset between those distances. Rear sight also includes a same plane large battle sight aperture, allowing the user to flip the sight for a wider field of view while maintaining zero. Fits in Mil-Spec A2 rear sight housing. Made in the USA. | U6: Steel sight with blued finish | V6: Limited Lifetime Warranty | AC6: No | AD6: No | AE6: Lead | AF6: Warning Cancer and Reproductive Harm - www.p65warnings.ca.gov | AG6: WARNING-Cancer and Reproductive Harm – www.P65Warnings.ca.gov | AH6: https://www.dropbox.com/s/srp4nkyk3yqoa5k/AR-2004-9.jpg?dl=0 | AM6: https://xssights.com/content/Install%20Instructions/AR15%20A2%20Rear%20Sight%20and%20Fine%20Tune%20Instructions.pdf
A7: AR | B7: =_xlfn.XLOOKUP(C7,'Kit to Family'!A:A,'Kit to Family'!G:G) -> Std | C7: AR-2008-1 | D7: .080W White Stripe Front - AR Mil-Spec | E7: 647533042406 | F7: Current | H7: 51.24 | I7: 51.24 | J7: =ROUNDUP(H7*1.1,0)-0.01 -> 56.99 | K7: AR | L7: AR | M7: Pouch | N7: 0.15 | O7: 5.5 | P7: 5 | Q7: 0.5 | R7: USA | S7: 9305.20.9500 | T7: XS white stripe front sight for the AR features precision machined stress proof steel and white stripe, increasing contrast for a more visible sight in mid-low light conditions. Post is 0.080" wide. With two white faces, each half rotation of front sight gives a 2.5" shift at 100 yards. Made in the USA. Fits AR front sight housing with front sight detent at 3, 6, or 9 o'clock. | U7: Steel sight with blued finish | V7: White stripe post | W7: Limited Lifetime Warranty | AC7: No | AD7: No | AE7: Lead | AF7: Warning Cancer and Reproductive Harm - www.p65warnings.ca.gov | AG7: WARNING-Cancer and Reproductive Harm – www.P65Warnings.ca.gov | AH7: https://www.dropbox.com/s/cnm6mx8gjyg9az0/AR-2008-1.jpg?dl=0 | AM7: https://xssights.com/content/Install%20Instructions/AR15%20A2%20Front%20and%20Fine%20Tune%20Instructions.pdf
A8: AR | B8: =_xlfn.XLOOKUP(C8,'Kit to Family'!A:A,'Kit to Family'!G:G) -> Std | C8: AR-2009-2 | D8: .100W White Stripe Front - AR Mil-Spec | E8: 647533042413 | F8: Phaseout | H8: 51.24 | J8: =ROUNDUP(H8*1.1,0)-0.01 -> 56.99 | K8: AR | L8: AR | M8: Pouch | N8: 0.15 | O8: 5.5 | P8: 5 | Q8: 0.5 | R8: USA | S8: 9305.20.9500 | T8: XS white stripe front sight for the AR features precision machined stress proof steel and white stripe, increasing contrast for a more visible sight in mid-low light conditions. Post is 0.100" wide. With two white faces, each half rotation of front sight gives a 2.5" shift at 100 yards. Made in the USA. Fits AR front sight housing with front sight detent at 3, 6, or 9 o'clock. | U8: Steel sight with blued finish | V8: White stripe post | W8: Limited Lifetime Warranty | AC8: No | AD8: No | AE8: Lead | AF8: Warning Cancer and Reproductive Harm - www.p65warnings.ca.gov | AG8: WARNING-Cancer and Reproductive Harm – www.P65Warnings.ca.gov | AH8: https://www.dropbox.com/s/wyteujc8w1lgizo/AR-2009-2_angle.jpg?dl=0 | AI8: https://www.dropbox.com/s/hu55bj7a8tf389a/AR-2009-2_back.jpg?dl=0 | AM8: https://xssights.com/content/Install%20Instructions/AR15%20A2%20Front%20and%20Fine%20Tune%20Instructions.pdf
A9: AR | B9: =_xlfn.XLOOKUP(C9,'Kit to Family'!A:A,'Kit to Family'!G:G) -> Flip Up Front Tritium | C9: AR-2013-7 | D9: Folding Front Sight - XS Tritium Stripe | E9: 647533045834 | F9: Current | H9: 156.55 | I9: 156.55 | J9: =ROUNDUP(H9*1.1,0)-0.01 -> 172.99 | K9: AR | L9: AR | M9: Pouch | N9: 0.15 | O9: 5.5 | P9: 5 | Q9: 0.5 | R9: USA | S9: 9305.20.9500 | T9: Samson quick flip up sight bases are constructed from aluminum, have stainless steel clamps, and are hard coat anodized. With milspec dimensions, the sights lock into position and attach to any 1913 Picatinny rail. Front sight features XS Tritium Stripe front: 0.105” wide front post with vertical tritium stripe and white painted outline for visibility in any light. | U9: Aluminum base | V9: Tritium Front with White Stripe | W9: Steel Clamp | AC9: No | AD9: Yes | AE9: Lead | AF9: Warning Cancer and Reproductive Harm - www.p65warnings.ca.gov | AG9: WARNING-Cancer and Reproductive Harm – www.P65Warnings.ca.gov | AH9: https://www.dropbox.com/s/21tz2lrn7a4r30s/AR-2013-7.jpg?dl=0
A10: AR | B10: =_xlfn.XLOOKUP(C10,'Kit to Family'!A:A,'Kit to Family'!G:G) -> Flip Up Rear | C10: AR-2014-8 | D10: Folding Rear Sight - CSAT Aperture | E10: 647533045841 | F10: Current | H10: 133.25 | I10: 133.25 | J10: =ROUNDUP(H10*1.1,0)-0.01 -> 146.99 | K10: AR | L10: AR | M10: Pouch | N10: 0.15 | O10: 5.5 | P10: 5 | Q10: 0.5 | R10: USA | S10: 9305.20.9500 | T10: Samson quick flip up sight base is constructed from aluminum, has a stainless steel clamp, and is hard coat anodized. With milspec dimensions, the sight locks into position and attaches to any 1913 Picatinny rail. Rear sight features XS CSAT same plane aperture: CQB situations made easy with notch providing a 7 yard zero, aperture a 100 yard zero, or flip to the large battle aperture, all while maintaining zero. | U10: Aluminum base | V10: steel clamp and aperture | W10: Limited Lifetime Warranty | AC10: No | AD10: No | AE10: Lead | AF10: Warning Cancer and Reproductive Harm - www.p65warnings.ca.gov | AG10: WARNING-Cancer and Reproductive Harm – www.P65Warnings.ca.gov | AH10: https://www.dropbox.com/s/1wkldqkbfp58vgs/AR-2014-8.jpg?dl=0
A11: AR | B11: =_xlfn.XLOOKUP(C11,'Kit to Family'!A:A,'Kit to Family'!G:G) -> Rear Tritium | C11: AR-3001-7 | D11: Flip-up Sights w/ CSAT & Tritium Stripe | E11: 647533045827 | F11: Current | H11: 318.14 | I11: 318.14 | J11: =ROUNDUP(H11*1.1,0)-0.01 -> 349.99 | K11: AR | L11: AR | M11: Clamshell | N11: 0.25 | O11: 8 | P11: 5 | Q11: 1.5 | R11: USA | S11: 9305.20.9500 | T11: Samson quick flip up sight bases are constructed from aluminum, have stainless steel clamps, and are hard coat anodized. With milspec dimensions, the sights lock into position and attach to any 1913 Picatinny rail. Front sight features XS Tritium Stripe front: 0.105” wide front post with vertical tritium stripe and white painted outline for visibility in any light. Rear sight features XS CSAT same plane aperture: CQB situations made easy with notch providing a 7 yard zero, aperture a 100 yard zero, or flip to the large battle aperture, all while maintaining zero. | U11: Aluminum base | V11: Steel clamp and aperture | W11: Tritium front | X11: Limited Lifetime Warranty | AC11: No | AD11: Yes | AE11: Lead | AF11: Warning Cancer and Reproductive Harm - www.p65warnings.ca.gov | AG11: WARNING-Cancer and Reproductive Harm – www.P65Warnings.ca.gov | AH11: https://www.dropbox.com/s/oiuuxugt0iyl3lk/AR-3001-7%20angle%2020190516.jpg?dl=0 | AI11: https://www.dropbox.com/s/l5qvl4buivz4tla/AR-3001-7%20back%2020190516.jpg?dl=0 | AJ11: https://www.dropbox.com/s/n99ca83yb15g25b/AR-3001-7%20side%2020190516.jpg?dl=0 | AK11: https://www.dropbox.com/s/07cupvki0wdsre1/AR-3001-7.jpg?dl=0
A12: AR | B12: =_xlfn.XLOOKUP(C12,'Kit to Family'!A:A,'Kit to Family'!G:G) -> Std | C12: AR-2010-8 | D12: Aimpoint QD Base w/ CSAT | E12: 647533042468 | F12: Phaseout | H12: 51.24 | J12: =ROUNDUP(H12*1.1,0)-0.01 -> 56.99 | K12: AR | L12: AR | M12: Pouch | N12: 0.15 | O12: 8 | P12: 5 | Q12: 1.5 | R12: USA | S12: 9305.20.9500 | T12: Master Sgt. Paul Howe's (USA - Ret.) CSAT aperture provides the shooter with both a traditional notch and post for a 7 yard zero, plus a small aperture for a 100 yard zero, allowing the shooter to account for the 2.5" offset between those distances. Rear sight also includes a same plane large battle sight aperture, allowing the user to flip the sight for a wider field of view while maintaining zero. Rear sight assembly for use on AimPoint QD twist mount magnifier base. Made in the USA. | U12: Fits Aimpoint Magnifier QD base | V12: CSAT Aperture | W12: Anodized Aluminum | AC12: No | AD12: No | AE12: Lead | AF12: Warning Cancer and Reproductive Harm - www.p65warnings.ca.gov | AG12: WARNING-Cancer and Reproductive Harm – www.P65Warnings.ca.gov | AH12: https://www.dropbox.com/s/aevaxhv6j0mjan7/AR-2010-8_angle.jpg?dl=0 | AI12: https://www.dropbox.com/s/iq5u7s7pdiv0afg/AR-2010-8_back.jpg?dl=0
A13: AR | B13: =_xlfn.XLOOKUP(C13,'Kit to Family'!A:A,'Kit to Family'!G:G) -> Rear / Front Tritium | C13: AR-0005-7 | D13: CSAT Rear & Tritium Stripe Front - AR Mil-Spec | E13: 647533037211 | F13: Current | H13: 99.99 | I13: 99.99 | J13: =ROUNDUP(H13*1.1,0)-0.01 -> 109.99 | K13: AR | L13: AR | M13: Pouch | N13: 0.15 | O13: 5.5 | P13: 5 | Q13: 0.5 | R13: USA | S13: 9305.20.9500 | T13: XS Tritium stripe front sight and CSAT rear for the AR includes precision machined stress proof steel post and aperture inserts for installation into AR sight housings. The tritium front stripe features a vertical tritium vial and white outline to provide front sight visibility in any lighting condition. 0.105" square top post. Each full rotation of front sight gives a 5" shift at 100 yards. Fits AR front sight housing with front sight detent at 3, 6, or 9 o'clock. Master Sgt. Paul Howe's (USA - Ret.) CSAT aperture provides the shooter with both a traditional notch and post for a 7 yard zero, plus a small aperture for a 100 yard zero, allowing the shooter to account for the 2.5" offset between those distances. Rear sight also includes a same plane large battle sight aperture, allowing the user to flip the sight for a wider field of view while maintaining zero. Fits in Mil-Spec A2 rear sight housing. Made in the USA. | U13: Steel sight with blued finish | V13: Green tritium front | W13: White paint outline | X13: Blacked-out rear | Y13: Limited Lifetime Warranty | AC13: No | AD13: Yes | AE13: Lead | AF13: Warning Cancer and Reproductive Harm - www.p65warnings.ca.gov | AG13: WARNING-Cancer and Reproductive Harm – www.P65Warnings.ca.gov | AH13: https://www.dropbox.com/s/y3lz66wej8xjqql/AR-0005-7%2020201201.jpg?dl=0
A14: DXT | B14: =_xlfn.XLOOKUP(C14,'Kit to Family'!A:A,'Kit to Family'!G:G) -> Std | C14: RE-0006-6 | D14: DXT Standard Dot - Remington Rifles & Shotguns, 2 Groove Rear Sight Base | E14: 647533015462 | F14: Phaseout | H14: 131.29 | J14: =ROUNDUP(H14*1.1,0)-0.01 -> 144.99 | K14: Remington | L14: Shotgun | M14: Pouch | N14: 0.15 | O14: 5.5 | P14: 5 | Q14: 0.5 | R14: USA | S14: 9305.20.9500 | T14: DXT Standard Dot Sights for Remington rifle sighted barrels provide all the advantages of DXT pistol sights on the defensive shotgun. Fast sight alignment and acquisition in all light conditions. Great for patrol, tactical, and home defense shotguns. Standard Dot measures 0.140" diameter. | U14: Steel sight with blued finish | V14: Green tritium front and rear | W14: White ring front | X14: Limited Lifetime Warranty | AC14: No | AD14: Yes | AE14: Lead | AF14: Warning Cancer and Reproductive Harm - www.p65warnings.ca.gov | AG14: WARNING-Cancer and Reproductive Harm – www.P65Warnings.ca.gov | AH14: https://www.dropbox.com/s/r0lvylxleuk5aq8/RE-0006-6%20angle%2020201208.jpg?dl=0 | AI14: https://www.dropbox.com/s/22se3siq0knr6hn/RE-0006-6%20back%2020190530.jpg?dl=0 | AM14: https://xssights.com/content/Install%20Instructions/Remington%20Express%20Sight%20Instructions.pdf
A15: DXT | B15: =_xlfn.XLOOKUP(C15,'Kit to Family'!A:A,'Kit to Family'!G:G) -> Std | C15: BS-0001S-5 | D15: DXT Big Dot - Bersa BP9CC | E15: 647533043861 | F15: Phaseout | H15: 129.99 | J15: =ROUNDUP(H15*1.1,0)-0.01 -> 142.99 | K15: Bersa | L15: Pistol | M15: Pouch | N15: 0.15 | O15: 5.5 | P15: 5 | Q15: 0.5 | R15: USA | S15: 9305.10.0090 | T15: The XS DXT Big Dot night sight is the ultimate defensive sight set. Fits Bersa BP9CC. Precision machined in Fort Worth, TX, XS Sights feature a Big Dot Tritium front sight and express rear sight with a vertical tritium stripe for fast sight acquisition in all light conditions. Big Dot demands your attention - even in high stress and for those with poor eyesight, aids in rapidly achieving combat effective hits. White dot reflects ambient light for best visibility in low light. Shallow V-Notch rear provides an unobstructed view of the front sight, along with a greater field of view down range, especially when moving and shooting. Day-Light, Half-Light, or Low-Light, just "dot the i" and center the dot over your target within 15 yards. Outside Diameter Big Dot 0.188"; fits in common holsters. Installation might require filing to fit sight to dovetail, do not use a sight press/pusher tool. | U15: Steel sight with blued finish | V15: Green tritium front and rear | W15: White ring front | X15: Limited Lifetime Warranty | AC15: No | AD15: Yes | AE15: Lead | AF15: Warning Cancer and Reproductive Harm - www.p65warnings.ca.gov | AG15: WARNING-Cancer and Reproductive Harm – www.P65Warnings.ca.gov | AH15: https://www.dropbox.com/scl/fi/y7fdmm6pfjt2kyzceunrj/BS-0001S-5-angle-20181210.jpg?rlkey=agbk46rftid4fx0q6uu79kcou&st=yxlunsfy&dl=0 | AI15: https://www.dropbox.com/scl/fi/zc32sxfcqr066q32xe2s3/BS-0001S-5-back-20181210.jpg?rlkey=x4x2vsh7j41ymu50oauv8jnyp&st=cpkqgtzn&dl=0 | AJ15: https://www.dropbox.com/scl/fi/xlj0l24s846yz2d27px90/BS-0001S-5-side-20181210.jpg?rlkey=aw65q3h7pof6scor907r1pml9&st=prk3xraw&dl=0 | AM15: https://xssights.com/content/Install%20Instructions/General%20Handgun%20Installation.pdf
A16: DXT | B16: =_xlfn.XLOOKUP(C16,'Kit to Family'!A:A,'Kit to Family'!G:G) -> Std | C16: CK-0001S-5 | D16: DXT Big Dot - Canik | E16: 647533045650 | F16: Phaseout | H16: 129.99 | J16: =ROUNDUP(H16*1.1,0)-0.01 -> 142.99 | K16: Canik | L16: Pistol | M16: Pouch | N16: 0.15 | O16: 5.5 | P16: 5 | Q16: 0.5 | R16: USA | S16: 9305.10.0090 | T16: The XS DXT Big Dot night sight is the ultimate defensive sight set. Fits Canik TP9SF, TP9SF Elite, & TP9SFx. Precision machined in Fort Worth, TX, XS Sights feature a Big Dot Tritium front sight and express rear sight with a vertical tritium stripe for fast sight acquisition in all light conditions. Big Dot demands your attention - even in high stress and for those with poor eyesight, aids in rapidly achieving combat effective hits. White dot reflects ambient light for best visibility in low light. Shallow V-Notch rear provides an unobstructed view of the front sight, along with a greater field of view down range, especially when moving and shooting. Day-Light, Half-Light, or Low-Light, just "dot the i" and center the dot over your target within 15 yards. Outside Diameter Big Dot 0.188"; fits in common holsters. Installation might require filing to fit sight to dovetail, do not use a sight press/pusher tool. | U16: Steel sight with blued finish | V16: Green tritium front and rear | W16: White ring front | X16: Snag-free design | Y16: Limited Lifetime Warranty | AC16: No | AD16: Yes | AE16: Lead | AF16: Warning Cancer and Reproductive Harm - www.p65warnings.ca.gov | AG16: WARNING-Cancer and Reproductive Harm – www.P65Warnings.ca.gov | AH16: https://www.dropbox.com/scl/fi/yot59qi0wdcquqj6n4wj0/CK-0001S-5-angle-20190308.jpg?rlkey=g96a4az11uugs5m471m3rf25n&st=cilqdana&dl=0 | AI16: https://www.dropbox.com/scl/fi/46995naw9pllmbgfk1nyl/CK-0001S-5-back-20190308.jpg?rlkey=jaqytrjwaaffo5794v2nnr71l&st=qzj52g86&dl=0 | AJ16: https://www.dropbox.com/scl/fi/blw26ahjlqwapled5o3u5/CK-0001S-5-side-20190308.jpg?rlkey=ww1lmpyqjkzeq46vijgcxw4tx&st=fe37ndc1&dl=0 | AM16: https://xssights.com/content/Install%20Instructions/General%20Handgun%20Installation.pdf
A17: DXT | B17: =_xlfn.XLOOKUP(C17,'Kit to Family'!A:A,'Kit to Family'!G:G) -> Std | C17: NE-0007S-5 | D17: DXT Big Dot - Colt Enhanced Govt. 5" | E17: 647533014458 | F17: Phaseout | H17: 129.99 | J17: =ROUNDUP(H17*1.1,0)-0.01 -> 142.99 | K17: Colt | L17: Pistol | M17: Pouch | N17: 0.15 | O17: 5.5 | P17: 5 | Q17: 0.5 | R17: USA | S17: 9305.10.0090 | T17: The XS DXT Big Dot night sight is the ultimate defensive sight set. Fits Colt 1911 5" with flat top slide. Installation requires machining a .330"X65°X.075" dovetail for front sight. Precision machined in Fort Worth, TX, XS Sights feature a Big Dot Tritium front sight and express rear sight with a vertical tritium stripe for fast sight acquisition in all light conditions. Big Dot demands your attention - even in high stress and for those with poor eyesight, aids in rapidly achieving combat effective hits. White dot reflects ambient light for best visibility in low light. Shallow V-Notch rear provides an unobstructed view of the front sight, along with a greater field of view down range, especially when moving and shooting. Day-Light, Half-Light, or Low-Light, just "dot the i" and center the dot over your target within 15 yards. Outside Diameter Big Dot 0.188"; fits in common holsters. Installation might require filing to fit sight to dovetail, do not use a sight press/pusher tool. | U17: Steel sight with blued finish | V17: Green tritium front and rear | W17: White ring front | X17: Limited Lifetime Warranty | AC17: No | AD17: Yes | AE17: Lead | AF17: Warning Cancer and Reproductive Harm - www.p65warnings.ca.gov | AG17: WARNING-Cancer and Reproductive Harm – www.P65Warnings.ca.gov | AH17: https://www.dropbox.com/s/t8eq0e2f7wf2zps/NE-0008S-5%20ANGLE%2020180329.jpg?dl=0 | AI17: https://www.dropbox.com/s/93fwqnw4bsi6fi8/NE-0008S-5%20BACK%2020180329.jpg?dl=0 | AM17: https://xssights.com/content/Install%20Instructions/General%20Handgun%20Installation.pdf
A18: DXT | B18: =_xlfn.XLOOKUP(C18,'Kit to Family'!A:A,'Kit to Family'!G:G) -> Std | C18: NE-0010S-5 | D18: DXT Big Dot - Colt Enhanced Govt. 5" Novak rear | E18: 647533014755 | F18: Phaseout | H18: 129.99 | J18: =ROUNDUP(H18*1.1,0)-0.01 -> 142.99 | K18: Colt | L18: Pistol | M18: Pouch | N18: 0.2 | O18: 5.5 | P18: 5 | Q18: 0.5 | R18: USA | S18: 9305.10.0090 | T18: The XS DXT Big Dot night sight is the ultimate defensive sight set. Fits Colt 1911 Government 5" with flat top slide and Novak rear sight cut. Installation requires machining a .330"X65°X.075" dovetail for front sight. Precision machined in Fort Worth, TX, XS Sights feature a Big Dot Tritium front sight and express rear sight with a vertical tritium stripe for fast sight acquisition in all light conditions. Big Dot demands your attention - even in high stress and for those with poor eyesight, aids in rapidly achieving combat effective hits. White dot reflects ambient light for best visibility in low light. Shallow V-Notch rear provides an unobstructed view of the front sight, along with a greater field of view down range, especially when moving and shooting. Day-Light, Half-Light, or Low-Light, just "dot the i" and center the dot over your target within 15 yards. Outside Diameter Big Dot 0.188"; fits in common holsters. Installation might require filing to fit sight to dovetail, do not use a sight press/pusher tool. | U18: Steel sight with blued finish | V18: Green tritium front and rear | W18: White ring front | X18: Limited Lifetime Warranty | AC18: No | AD18: Yes | AE18: Lead | AF18: Warning Cancer and Reproductive Harm - www.p65warnings.ca.gov | AG18: WARNING-Cancer and Reproductive Harm – www.P65Warnings.ca.gov | AH18: https://www.dropbox.com/s/scd87wq2tuekbwg/NE-0011S-5%20angle%2020190313.jpg?dl=0 | AI18: https://www.dropbox.com/s/9egaspu8lhb68ha/NE-0011S-5%20back%2020190313.jpg?dl=0 | AM18: https://xssights.com/content/Install%20Instructions/General%20Handgun%20Installation.pdf
A19: DXT | B19: =_xlfn.XLOOKUP(C19,'Kit to Family'!A:A,'Kit to Family'!G:G) -> Std | C19: NE-0011S-5 | D19: DXT Big Dot - Colt Enhanced Commander 4.25" Novak rear | E19: 647533014816 | F19: Phaseout | H19: 129.99 | J19: =ROUNDUP(H19*1.1,0)-0.01 -> 142.99 | K19: Colt | L19: Pistol | M19: Pouch | N19: 0.2 | O19: 5.5 | P19: 5 | Q19: 0.5 | R19: USA | S19: 9305.10.0090 | T19: The XS DXT Big Dot night sight is the ultimate defensive sight set. Fits Colt 1911 Commander 4.25" with flat top slide and Novak rear sight cut. Installation requires machining a .330"X65°X.075" dovetail for front sight. Precision machined in Fort Worth, TX, XS Sights feature a Big Dot Tritium front sight and express rear sight with a vertical tritium stripe for fast sight acquisition in all light conditions. Big Dot demands your attention - even in high stress and for those with poor eyesight, aids in rapidly achieving combat effective hits. White dot reflects ambient light for best visibility in low light. Shallow V-Notch rear provides an unobstructed view of the front sight, along with a greater field of view down range, especially when moving and shooting. Day-Light, Half-Light, or Low-Light, just "dot the i" and center the dot over your target within 15 yards. Outside Diameter Big Dot 0.188"; fits in common holsters. Installation might require filing to fit sight to dovetail, do not use a sight press/pusher tool. | U19: Steel sight with blued finish | V19: Green tritium front and rear | W19: White ring front | X19: Limited Lifetime Warranty | AC19: No | AD19: Yes | AE19: Lead | AF19: Warning Cancer and Reproductive Harm - www.p65warnings.ca.gov | AG19: WARNING-Cancer and Reproductive Harm – www.P65Warnings.ca.gov | AH19: https://www.dropbox.com/s/scd87wq2tuekbwg/NE-0011S-5%20angle%2020190313.jpg?dl=0 | AI19: https://www.dropbox.com/s/9egaspu8lhb68ha/NE-0011S-5%20back%2020190313.jpg?dl=0 | AM19: https://xssights.com/content/Install%20Instructions/General%20Handgun%20Installation.pdf
A20: DXT | B20: =_xlfn.XLOOKUP(C20,'Kit to Family'!A:A,'Kit to Family'!G:G) -> Supp | C20: NE-0017S-5 | D20: DXT Big Dot - Colt Govt. 5" Novak rear Suppressor Hgt | E20: 647533045254 | F20: Phaseout | H20: 139.99 | J20: =ROUNDUP(H20*1.1,0)-0.01 -> 153.99 | K20: Colt | L20: Pistol | M20: Pouch | N20: 0.25 | O20: 5.5 | P20: 5 | Q20: 0.5 | R20: USA | S20: 9305.10.0090 | T20: The XS DXT Big Dot night sight is the ultimate defensive sight set. Suppressor height sights fit Colt 1911 5" with flat top slide. Installation requires machining a .330"X65°X.075" dovetail for front sight. Precision machined in Fort Worth, TX, XS Sights feature a Big Dot Tritium front sight and express rear sight with a vertical tritium stripe for fast sight acquisition in all light conditions. Big Dot demands your attention - even in high stress and for those with poor eyesight, aids in rapidly achieving combat effective hits. White dot reflects ambient light for best visibility in low light. Shallow V-Notch rear provides an unobstructed view of the front sight, along with a greater field of view down range, especially when moving and shooting. Day-Light, Half-Light, or Low-Light, just "dot the i" and center the dot over your target within 15 yards. Outside Diameter Big Dot 0.188"; fits in common holsters. Installation might require filing to fit sight to dovetail, do not use a sight press/pusher tool. | U20: Steel sight with blued finish | V20: Green tritium front and rear | W20: White ring front | X20: Limited Lifetime Warranty | AC20: No | AD20: Yes | AE20: Lead | AF20: Warning Cancer and Reproductive Harm - www.p65warnings.ca.gov | AG20: WARNING-Cancer and Reproductive Harm – www.P65Warnings.ca.gov | AH20: https://www.dropbox.com/s/yuuh7ttzuzjnamg/NE-0017S-5%20angle%2020190313.jpg?dl=0 | AI20: https://www.dropbox.com/s/q1l0tmpxcfmxj1f/NE-0017S-5%20back%2020190313.jpg?dl=0 | AM20: https://xssights.com/content/Install%20Instructions/General%20Handgun%20Installation.pdf
A21: DXT | B21: =_xlfn.XLOOKUP(C21,'Kit to Family'!A:A,'Kit to Family'!G:G) -> Supp | C21: NE-0017S-6 | D21: DXT Standard Dot - Colt Govt. 5" Novak rear Suppressor Hgt | E21: 647533045278 | F21: Phaseout | H21: 139.99 | J21: =ROUNDUP(H21*1.1,0)-0.01 -> 153.99 | K21: Colt | L21: Pistol | M21: Pouch | N21: 0.25 | O21: 5.5 | P21: 5 | Q21: 0.5 | R21: USA | S21: 9305.10.0090 | T21: The XS DXT Standard Dot night sight is a superior defensive sight set. Suppressor height for 5" 1911 with Novak front and Novak rear cuts. Precision machined in Fort Worth, TX, XS Sights feature a Standard Dot Tritium front sight and express rear sight with a vertical tritium stripe for fast sight acquisition in all light conditions. Standard Dot is larger than most fronts to be seen under stress, but covers less of the target than the Big Dot. White dot reflects ambient light for visibility in low light. Shallow V-Notch rear provides an unobstructed view of the front sight, along with a greater field of view down range, especially when moving and shooting. Day-Light, Half-Light, or Low-Light, just "dot the i" and center the dot over your target within 15 yards. Outside Diameter Standard Dot 0.140"; fits in common holsters. Installation might require filing to fit sight to dovetail, do not use a sight press/pusher tool. | U21: Steel sight with blued finish | V21: Green tritium front and rear | W21: White ring front | X21: Limited Lifetime Warranty | AC21: No | AD21: Yes | AE21: Lead | AF21: Warning Cancer and Reproductive Harm - www.p65warnings.ca.gov | AG21: WARNING-Cancer and Reproductive Harm – www.P65Warnings.ca.gov | AH21: https://www.dropbox.com/s/bt9m7e3r75j3s8o/NE-0017S-6_angle.jpg?dl=0 | AI21: https://www.dropbox.com/s/nooz90zme27c5d8/NE-0017S-6_back.jpg?dl=0 | AM21: https://xssights.com/content/Install%20Instructions/General%20Handgun%20Installation.pdf
A22: DXT | B22: =_xlfn.XLOOKUP(C22,'Kit to Family'!A:A,'Kit to Family'!G:G) -> Supp | C22: GL-0004S-5 | D22: DXT Big Dot - Glock Suppressor Hgt 17,19,22-24,26,27,31-36,38 | E22: 647533044387 | F22: Phaseout | H22: 139.99 | J22: =ROUNDUP(H22*1.1,0)-0.01 -> 153.99 | K22: Glock | L22: Pistol | M22: Pouch | N22: 0.5 | O22: 5.5 | P22: 5 | Q22: 0.5 | R22: USA | S22: 9305.10.0090 | T22: The XS DXT Big Dot night sight is the ultimate defensive sight set. Suppressor Height Sights for Glock models 17, 19, 22, 23, 24, 26, 27, 31, 32, 33, 34, 35, & 36. Precision machined in Fort Worth, TX, XS Sights feature a Big Dot Tritium front sight and express rear sight with a vertical tritium stripe for fast sight acquisition in all light conditions. Big Dot demands your attention - even in high stress and for those with poor eyesight, aids in rapidly achieving combat effective hits. White dot reflects ambient light for best visibility in low light. Shallow V-Notch rear provides an unobstructed view of the front sight, along with a greater field of view down range, especially when moving and shooting. Day-Light, Half-Light, or Low-Light, just "dot the i" and center the dot over your target within 15 yards. Outside Diameter Big Dot 0.188"; fits in common holsters. Installation might require filing to fit sight to dovetail, do not use a sight press/pusher tool. | U22: Steel sight with blued finish | V22: Green tritium front and rear | W22: White ring front | X22: Snag-free design | Y22: Limited Lifetime Warranty | AC22: No | AD22: Yes | AE22: Lead | AF22: Warning Cancer and Reproductive Harm - www.p65warnings.ca.gov | AG22: WARNING-Cancer and Reproductive Harm – www.P65Warnings.ca.gov | AH22: https://www.dropbox.com/s/3rz1ytu9w9g7v0r/GL-0004S-5%20angle%2020201202.jpg?dl=0 | AI22: https://www.dropbox.com/s/zz6bi04gwehdzxv/GL-0004S-5%20back%2020180912.jpg?dl=0 | AM22: https://xssights.com/content/Install%20Instructions/General%20Handgun%20Installation.pdf
A23: DXT | B23: =_xlfn.XLOOKUP(C23,'Kit to Family'!A:A,'Kit to Family'!G:G) -> Supp | C23: GL-0005S-6 | D23: DXT Standard Dot - Glock Suppressor Hgt 20,21,29,30,30S,37,40,41 | E23: 647533044455 | F23: Phaseout | H23: 139.99 | J23: =ROUNDUP(H23*1.1,0)-0.01 -> 153.99 | K23: Glock | L23: Pistol | M23: Pouch | N23: 0.5 | O23: 5.5 | P23: 5 | Q23: 0.5 | R23: USA | S23: 9305.10.0090 | T23: The XS DXT Standard Dot night sight is a superior defensive sight set. Suppressor Height sights for Glock models 20, 21, 29, 30, 30S, 37, 40, & 41. Precision machined in Fort Worth, TX, XS Sights feature a Standard Dot Tritium front sight and express rear sight with a vertical tritium stripe for fast sight acquisition in all light conditions. Standard Dot is larger than most fronts to be seen under stress, but covers less of the target than the Big Dot. White dot reflects ambient light for visibility in low light. Shallow V-Notch rear provides an unobstructed view of the front sight, along with a greater field of view down range, especially when moving and shooting. Day-Light, Half-Light, or Low-Light, just "dot the i" and center the dot over your target within 15 yards. Outside Diameter Standard Dot 0.140"; fits in common holsters. Installation might require filing to fit sight to dovetail, do not use a sight press/pusher tool. | U23: Steel sight with blued finish | V23: Green tritium front and rear | W23: White ring front | X23: Limited Lifetime Warranty | AC23: No | AD23: Yes | AE23: Lead | AF23: Warning Cancer and Reproductive Harm - www.p65warnings.ca.gov | AG23: WARNING-Cancer and Reproductive Harm – www.P65Warnings.ca.gov | AH23: https://www.dropbox.com/s/3zauoklsy27x56i/GL-0004S-6%20angle%2020180917.jpg?dl=0 | AI23: https://www.dropbox.com/s/7g4wi1zv96vioub/GL-0004S-6%20back%2020180917.jpg?dl=0 | AM23: https://xssights.com/content/Install%20Instructions/General%20Handgun%20Installation.pdf
A24: DXT | B24: =_xlfn.XLOOKUP(C24,'Kit to Family'!A:A,'Kit to Family'!G:G) -> Std | C24: KA-0004S-5 | D24: DXT Big Dot - Kahr Post 04 E & CW, Requires DVTL cut | E24: 647533037488 | F24: Phaseout | H24: 129.99 | J24: =ROUNDUP(H24*1.1,0)-0.01 -> 142.99 | K24: Kahr | L24: Pistol | M24: Pouch | N24: 0.15 | O24: 5.5 | P24: 5 | Q24: 0.5 | R24: USA | S24: 9305.10.0090 | T24: The XS DXT Big Dot night sight is the ultimate defensive sight set. Fits Kahr E & CW series pistols manufactured after 2004. Installation requires machining a .330"X65°X.075" dovetail for front sight. Precision machined in Fort Worth, TX, XS Sights feature a Big Dot Tritium front sight and express rear sight with a vertical tritium stripe for fast sight acquisition in all light conditions. Big Dot demands your attention - even in high stress and for those with poor eyesight, aids in rapidly achieving combat effective hits. White dot reflects ambient light for best visibility in low light. Shallow V-Notch rear provides an unobstructed view of the front sight, along with a greater field of view down range, especially when moving and shooting. Day-Light, Half-Light, or Low-Light, just "dot the i" and center the dot over your target within 15 yards. Outside Diameter Big Dot 0.188"; fits in common holsters. Installation might require filing to fit sight to dovetail, do not use a sight press/pusher tool. Note: The loaded chamber indicator of CA compliant models blocks the sight picture. | U24: Steel sight with blued finish | V24: Green tritium front and rear | W24: White ring front | X24: Limited Lifetime Warranty | AC24: No | AD24: Yes | AE24: Lead | AF24: Warning Cancer and Reproductive Harm - www.p65warnings.ca.gov | AG24: WARNING-Cancer and Reproductive Harm – www.P65Warnings.ca.gov | AH24: https://www.dropbox.com/s/4i01ln6yjjb4t43/KA-0004S-5%20angle%2020181211.jpg?dl=0 | AI24: https://www.dropbox.com/s/4i01ln6yjjb4t43/KA-0004S-5%20angle%2020181211.jpg?dl=0 | AM24: https://xssights.com/content/Install%20Instructions/General%20Handgun%20Installation.pdf
A25: DXT | B25: =_xlfn.XLOOKUP(C25,'Kit to Family'!A:A,'Kit to Family'!G:G) -> Std | C25: KB-0002S-5 | D25: DXT Big Dot - Kimber 1911 Custom 5" & Ultra Carry | E25: 647533012614 | F25: Phaseout | H25: 129.99 | J25: =ROUNDUP(H25*1.1,0)-0.01 -> 142.99 | K25: Kimber | L25: Pistol | M25: Pouch | N25: 0.15 | O25: 5.5 | P25: 5 | Q25: 0.5 | R25: USA | S25: 9305.10.0090 | T25: The XS DXT Big Dot night sight is the ultimate defensive sight set. Fits Kimber 1911 Custom 5" & Ultra Carry. Precision machined in Fort Worth, TX, XS Sights feature a Big Dot Tritium front sight and express rear sight with a vertical tritium stripe for fast sight acquisition in all light conditions. Big Dot demands your attention - even in high stress and for those with poor eyesight, aids in rapidly achieving combat effective hits. White dot reflects ambient light for best visibility in low light. Shallow V-Notch rear provides an unobstructed view of the front sight, along with a greater field of view down range, especially when moving and shooting. Day-Light, Half-Light, or Low-Light, just "dot the i" and center the dot over your target within 15 yards. Outside Diameter Big Dot 0.188"; fits in common holsters. Installation might require filing to fit sight to dovetail, do not use a sight press/pusher tool. | U25: Steel sight with blued finish | V25: Green tritium front and rear | W25: White ring front | X25: Limited Lifetime Warranty | AC25: No | AD25: Yes | AE25: Lead | AF25: Warning Cancer and Reproductive Harm - www.p65warnings.ca.gov | AG25: WARNING-Cancer and Reproductive Harm – www.P65Warnings.ca.gov | AH25: https://www.dropbox.com/s/brei7ltrkhwe9db/KB-0002S-5_angle.jpg?dl=0 | AI25: https://www.dropbox.com/s/epyxaih5sc6qe44/KB-0002S-5_back.jpg?dl=0 | AM25: https://xssights.com/content/Install%20Instructions/General%20Handgun%20Installation.pdf
A26: DXT | B26: =_xlfn.XLOOKUP(C26,'Kit to Family'!A:A,'Kit to Family'!G:G) -> Std | C26: KB-0003S-5 | D26: DXT Big Dot - Kimber 1911 Compact & Pro Carry | E26: 647533012737 | F26: Phaseout | H26: 129.99 | J26: =ROUNDUP(H26*1.1,0)-0.01 -> 142.99 | K26: Kimber | L26: Pistol | M26: Pouch | N26: 0.15 | O26: 5.5 | P26: 5 | Q26: 0.5 | R26: USA | S26: 9305.10.0090 | T26: The XS DXT Big Dot night sight is the ultimate defensive sight set. Fits Kimber 1911 Compact & Pro Carry. Precision machined in Fort Worth, TX, XS Sights feature a Big Dot Tritium front sight and express rear sight with a vertical tritium stripe for fast sight acquisition in all light conditions. Big Dot demands your attention - even in high stress and for those with poor eyesight, aids in rapidly achieving combat effective hits. White dot reflects ambient light for best visibility in low light. Shallow V-Notch rear provides an unobstructed view of the front sight, along with a greater field of view down range, especially when moving and shooting. Day-Light, Half-Light, or Low-Light, just "dot the i" and center the dot over your target within 15 yards. Outside Diameter Big Dot 0.188"; fits in common holsters. Installation might require filing to fit sight to dovetail, do not use a sight press/pusher tool. | U26: Steel sight with blued finish | V26: Green tritium front and rear | W26: White ring front | X26: Limited Lifetime Warranty | AC26: No | AD26: Yes | AE26: Lead | AF26: Warning Cancer and Reproductive Harm - www.p65warnings.ca.gov | AG26: WARNING-Cancer and Reproductive Harm – www.P65Warnings.ca.gov | AH26: https://www.dropbox.com/s/k26h692d2l6u2mk/KB-0003S-5_angle.jpg?dl=0 | AI26: https://www.dropbox.com/s/k26h692d2l6u2mk/KB-0003S-5_angle.jpg?dl=0 | AM26: https://xssights.com/content/Install%20Instructions/General%20Handgun%20Installation.pdf
A27: DXT | B27: =_xlfn.XLOOKUP(C27,'Kit to Family'!A:A,'Kit to Family'!G:G) -> Std | C27: KB-0003S-6 | D27: DXT Standard Dot - Kimber 1911 Compact & Pro Carry | E27: 647533012744 | F27: Phaseout | H27: 129.99 | J27: =ROUNDUP(H27*1.1,0)-0.01 -> 142.99 | K27: Kimber | L27: Pistol | M27: Pouch | N27: 0.15 | O27: 5.5 | P27: 5 | Q27: 0.5 | R27: USA | S27: 9305.10.0090 | T27: The XS DXT Standard Dot night sight is a superior defensive sight set. Fits Kimber 1911 Compact & Pro Carry models. Precision machined in Fort Worth, TX, XS Sights feature a Standard Dot Tritium front sight and express rear sight with a vertical tritium stripe for fast sight acquisition in all light conditions. Standard Dot is larger than most fronts to be seen under stress, but covers less of the target than the Big Dot. White dot reflects ambient light for visibility in low light. Shallow V-Notch rear provides an unobstructed view of the front sight, along with a greater field of view down range, especially when moving and shooting. Day-Light, Half-Light, or Low-Light, just "dot the i" and center the dot over your target within 15 yards. Outside Diameter Standard Dot 0.140"; fits in common holsters. Installation might require filing to fit sight to dovetail, do not use a sight press/pusher tool. | U27: Steel sight with blued finish | V27: Green tritium front and rear | W27: White ring front | X27: Limited Lifetime Warranty | AC27: No | AD27: Yes | AE27: Lead | AF27: Warning Cancer and Reproductive Harm - www.p65warnings.ca.gov | AG27: WARNING-Cancer and Reproductive Harm – www.P65Warnings.ca.gov | AH27: https://www.dropbox.com/s/xwv2p11e5u17ynu/KB-0003S-6_angle.jpg?dl=0 | AI27: https://www.dropbox.com/s/xwv2p11e5u17ynu/KB-0003S-6_angle.jpg?dl=0 | AM27: https://xssights.com/content/Install%20Instructions/General%20Handgun%20Installation.pdf
A28: DXT | B28: =_xlfn.XLOOKUP(C28,'Kit to Family'!A:A,'Kit to Family'!G:G) -> Std | C28: KB-0005S-6 | D28: DXT Standard Dot - Kimber Micro 9 & 380 | E28: 647533046039 | F28: Phaseout | H28: 129.99 | J28: =ROUNDUP(H28*1.1,0)-0.01 -> 142.99 | K28: Kimber | L28: Pistol | M28: Pouch | N28: 0.15 | O28: 5.5 | P28: 5 | Q28: 0.5 | R28: USA | S28: 9305.10.0090 | T28: The XS DXT Standard Dot night sight is a superior defensive sight set. Fits Kimber Micro 9 & 380 models. Precision machined in Fort Worth, TX, XS Sights feature a Standard Dot Tritium front sight and express rear sight with a vertical tritium stripe for fast sight acquisition in all light conditions. Standard Dot is larger than most fronts to be seen under stress, but covers less of the target than the Big Dot. White dot reflects ambient light for visibility in low light. Shallow V-Notch rear provides an unobstructed view of the front sight, along with a greater field of view down range, especially when moving and shooting. Day-Light, Half-Light, or Low-Light, just "dot the i" and center the dot over your target within 15 yards. Outside Diameter Standard Dot 0.140"; fits in common holsters. Installation might require filing to fit sight to dovetail, do not use a sight press/pusher tool. | U28: Steel sight with blued finish | V28: Green tritium front and rear | W28: White ring front | X28: Limited Lifetime Warranty | AC28: No | AD28: Yes | AE28: Lead | AF28: Warning Cancer and Reproductive Harm - www.p65warnings.ca.gov | AG28: WARNING-Cancer and Reproductive Harm – www.P65Warnings.ca.gov | AH28: https://www.dropbox.com/s/m1nd1kg3371lbcl/KB-0003S-6_back.jpg?dl=0 | AI28: https://www.dropbox.com/s/opccypjajxgti5s/KB-0005S-6%20angle%2020190307.jpg?dl=0 | AM28: https://xssights.com/content/Install%20Instructions/General%20Handgun%20Installation.pdf
A29: DXT | B29: =_xlfn.XLOOKUP(C29,'Kit to Family'!A:A,'Kit to Family'!G:G) -> Std | C29: RP-0009S-5 | D29: DXT Big Dot - Ruger LC9, LC9s, LC380 | E29: 647533045483 | F29: Phaseout | H29: 129.99 | J29: =ROUNDUP(H29*1.1,0)-0.01 -> 142.99 | K29: Ruger | L29: Pistol | M29: Pouch | N29: 0.15 | O29: 5.5 | P29: 5 | Q29: 0.5 | R29: USA | S29: 9305.10.0090 | T29: The XS DXT Big Dot night sight is the ultimate defensive sight set. Fits Ruger LC9, LC9S, & LC380. Precision machined in Fort Worth, TX, XS Sights feature a Big Dot Tritium front sight and express rear sight with a vertical tritium stripe for fast sight acquisition in all light conditions. Big Dot demands your attention - even in high stress and for those with poor eyesight, aids in rapidly achieving combat effective hits. White dot reflects ambient light for best visibility in low light. Shallow V-Notch rear provides an unobstructed view of the front sight, along with a greater field of view down range, especially when moving and shooting. Day-Light, Half-Light, or Low-Light, just "dot the i" and center the dot over your target within 15 yards. Outside Diameter Big Dot 0.188"; fits in common holsters. Installation might require filing to fit sight to dovetail, do not use a sight press/pusher tool. | U29: Steel sight with blued finish | V29: Green tritium front and rear | W29: White ring front | X29: Snag-free design | Y29: Limited Lifetime Warranty | AC29: No | AD29: Yes | AE29: Lead | AF29: Warning Cancer and Reproductive Harm - www.p65warnings.ca.gov | AG29: WARNING-Cancer and Reproductive Harm – www.P65Warnings.ca.gov | AH29: https://www.dropbox.com/s/1vd8nmg1zkz13o7/RP-0009S-5_angle.jpg?dl=0 | AM29: https://xssights.com/content/Install%20Instructions/General%20Handgun%20Installation.pdf
A30: DXT | B30: =_xlfn.XLOOKUP(C30,'Kit to Family'!A:A,'Kit to Family'!G:G) -> Std | C30: RP-0010S-5 | D30: DXT Big Dot - Ruger SR 1911 (5" only) | E30: 647533041690 | F30: Phaseout | H30: 129.99 | J30: =ROUNDUP(H30*1.1,0)-0.01 -> 142.99 | K30: Ruger | L30: Pistol | M30: Pouch | N30: 0.15 | O30: 5.5 | P30: 5 | Q30: 0.5 | R30: USA | S30: 9305.10.0090 | T30: The XS DXT Big Dot night sight is the ultimate defensive sight set. Fits Ruger SR1911 5" models. Precision machined in Fort Worth, TX, XS Sights feature a Big Dot Tritium front sight and express rear sight with a vertical tritium stripe for fast sight acquisition in all light conditions. Big Dot demands your attention - even in high stress and for those with poor eyesight, aids in rapidly achieving combat effective hits. White dot reflects ambient light for best visibility in low light. Shallow V-Notch rear provides an unobstructed view of the front sight, along with a greater field of view down range, especially when moving and shooting. Day-Light, Half-Light, or Low-Light, just "dot the i" and center the dot over your target within 15 yards. Outside Diameter Big Dot 0.188"; fits in common holsters. Installation might require filing to fit sight to dovetail, do not use a sight press/pusher tool. | U30: Steel sight with blued finish | V30: Green tritium front and rear | W30: White ring front | X30: Limited Lifetime Warranty | AC30: No | AD30: Yes | AE30: Lead | AF30: Warning Cancer and Reproductive Harm - www.p65warnings.ca.gov | AG30: WARNING-Cancer and Reproductive Harm – www.P65Warnings.ca.gov | AH30: https://www.dropbox.com/s/ny9ma7unnuwznsk/RP-0009S-6_back.jpg?dl=0 | AI30: https://www.dropbox.com/s/22wcahm76jwu1bn/RP-0010S-5%20angle%2020190314.jpg?dl=0 | AM30: https://xssights.com/content/Install%20Instructions/General%20Handgun%20Installation.pdf
A31: DXT | B31: =_xlfn.XLOOKUP(C31,'Kit to Family'!A:A,'Kit to Family'!G:G) -> Std | C31: RP-0010S-6 | D31: DXT Standard Dot - Ruger SR 1911 (5" only) | E31: 647533041706 | F31: Phaseout | H31: 129.99 | J31: =ROUNDUP(H31*1.1,0)-0.01 -> 142.99 | K31: Ruger | L31: Pistol | M31: Pouch | N31: 0.15 | O31: 5.5 | P31: 5 | Q31: 0.5 | R31: USA | S31: 9305.10.0090 | T31: The XS DXT Standard Dot night sight is a superior defensive sight set. Fits Ruger SR1911 5" model. Precision machined in Fort Worth, TX, XS Sights feature a Standard Dot Tritium front sight and express rear sight with a vertical tritium stripe for fast sight acquisition in all light conditions. Standard Dot is larger than most fronts to be seen under stress, but covers less of the target than the Big Dot. White dot reflects ambient light for visibility in low light. Shallow V-Notch rear provides an unobstructed view of the front sight, along with a greater field of view down range, especially when moving and shooting. Day-Light, Half-Light, or Low-Light, just "dot the i" and center the dot over your target within 15 yards. Outside Diameter Standard Dot 0.140"; fits in common holsters. Installation might require filing to fit sight to dovetail, do not use a sight press/pusher tool. | U31: Steel sight with blued finish | V31: Green tritium front and rear | W31: White ring front | X31: Limited Lifetime Warranty | AC31: No | AD31: Yes | AE31: Lead | AF31: Warning Cancer and Reproductive Harm - www.p65warnings.ca.gov | AG31: WARNING-Cancer and Reproductive Harm – www.P65Warnings.ca.gov | AH31: https://www.dropbox.com/s/zmsancc7gnje4y2/RP-0010S-6%20angle%2020190314.jpg?dl=0 | AI31: https://www.dropbox.com/s/vw1bwufh7cqvhx7/RP-0010S-6%20back%2020190314.jpg?dl=0 | AM31: https://xssights.com/content/Install%20Instructions/General%20Handgun%20Installation.pdf
A32: DXT | B32: =_xlfn.XLOOKUP(C32,'Kit to Family'!A:A,'Kit to Family'!G:G) -> Std | C32: SW-0022P-5 | D32: DXT Big Dot - S&W Bodyguard 380 | E32: 647533045506 | F32: Phaseout | H32: 129.99 | J32: =ROUNDUP(H32*1.1,0)-0.01 -> 142.99 | K32: S&W | L32: Pistol | M32: Pouch | N32: 0.15 | O32: 5.5 | P32: 5 | Q32: 0.5 | R32: USA | S32: 9305.10.0090 | T32: The XS DXT Big Dot night sight is the ultimate defensive sight set. Fits S&W Bodyguard 380. Precision machined in Fort Worth, TX, XS Sights feature a Big Dot Tritium front sight and express rear sight with a vertical tritium stripe for fast sight acquisition in all light conditions. Big Dot demands your attention - even in high stress and for those with poor eyesight, aids in rapidly achieving combat effective hits. White dot reflects ambient light for best visibility in low light. Shallow V-Notch rear provides an unobstructed view of the front sight, along with a greater field of view down range, especially when moving and shooting. Day-Light, Half-Light, or Low-Light, just "dot the i" and center the dot over your target within 15 yards. Outside Diameter Big Dot 0.188"; fits in common holsters. Installation might require filing to fit sight to dovetail, do not use a sight press/pusher tool. | U32: Steel sight with blued finish | V32: Green tritium front and rear | W32: White ring front | X32: Snag-free design | Y32: Limited Lifetime Warranty | AC32: No | AD32: Yes | AE32: Lead | AF32: Warning Cancer and Reproductive Harm - www.p65warnings.ca.gov | AG32: WARNING-Cancer and Reproductive Harm – www.P65Warnings.ca.gov | AH32: https://www.dropbox.com/s/hc5zibzalhm26zu/SW-0022P-5_angle.jpg?dl=0 | AI32: https://www.dropbox.com/s/tl8099z32sypfnx/SW-0022P-5_back.jpg?dl=0 | AM32: https://xssights.com/content/Install%20Instructions/General%20Handgun%20Installation.pdf
A33: DXT | B33: =_xlfn.XLOOKUP(C33,'Kit to Family'!A:A,'Kit to Family'!G:G) -> Std | C33: SW-0022P-6 | D33: DXT Standard Dot - S&W Bodyguard 380 | E33: 647533045513 | F33: Phaseout | H33: 129.99 | J33: =ROUNDUP(H33*1.1,0)-0.01 -> 142.99 | K33: S&W | L33: Pistol | M33: Pouch | N33: 0.15 | O33: 5.5 | P33: 5 | Q33: 0.5 | R33: USA | S33: 9305.10.0090 | T33: The XS DXT Standard Dot night sight is a superior defensive sight set. Fits S&W Bodyguard 380. Precision machined in Fort Worth, TX, XS Sights feature a Standard Dot Tritium front sight and express rear sight with a vertical tritium stripe for fast sight acquisition in all light conditions. Standard Dot is larger than most fronts to be seen under stress, but covers less of the target than the Big Dot. White dot reflects ambient light for visibility in low light. Shallow V-Notch rear provides an unobstructed view of the front sight, along with a greater field of view down range, especially when moving and shooting. Day-Light, Half-Light, or Low-Light, just "dot the i" and center the dot over your target within 15 yards. Outside Diameter Standard Dot 0.140"; fits in common holsters. Installation might require filing to fit sight to dovetail, do not use a sight press/pusher tool. | U33: Steel sight with blued finish | V33: Green tritium front and rear | W33: White ring front | X33: Snag-free design | Y33: Limited Lifetime Warranty | AC33: No | AD33: Yes | AE33: Lead | AF33: Warning Cancer and Reproductive Harm - www.p65warnings.ca.gov | AG33: WARNING-Cancer and Reproductive Harm – www.P65Warnings.ca.gov | AH33: https://www.dropbox.com/s/paxnmetrbigppnt/SW-0022P-6%20angle%2020181101.jpg?dl=0 | AI33: https://www.dropbox.com/s/2gumegwqm9sfrbl/SW-0022P-6_back.jpg?dl=0 | AM33: https://xssights.com/content/Install%20Instructions/General%20Handgun%20Installation.pdf
A34: DXT | B34: =_xlfn.XLOOKUP(C34,'Kit to Family'!A:A,'Kit to Family'!G:G) -> Std | C34: SW-0026S-5 | D34: DXT Big Dot - S&W M&P CORE Suppressor Hgt | E34: 647533045551 | F34: Phaseout | H34: 129.99 | J34: =ROUNDUP(H34*1.1,0)-0.01 -> 142.99 | K34: S&W | L34: Pistol | M34: Pouch | N34: 0.5 | O34: 5.5 | P34: 5 | Q34: 0.5 | R34: USA | S34: 9305.10.0090 | T34: The XS DXT Big Dot night sight is the ultimate defensive sight set. Suppressor Height sights for S&W M&P CORE. Precision machined in Fort Worth, TX, XS Sights feature a Big Dot Tritium front sight and express rear sight with a vertical tritium stripe for fast sight acquisition in all light conditions. Big Dot demands your attention - even in high stress and for those with poor eyesight, aids in rapidly achieving combat effective hits. White dot reflects ambient light for best visibility in low light. Shallow V-Notch rear provides an unobstructed view of the front sight, along with a greater field of view down range, especially when moving and shooting. Day-Light, Half-Light, or Low-Light, just "dot the i" and center the dot over your target within 15 yards. Outside Diameter Big Dot 0.188"; fits in common holsters. Installation might require filing to fit sight to dovetail, do not use a sight press/pusher tool. | U34: Steel sight with blued finish | V34: Green tritium front and rear | W34: White ring front | X34: Limited Lifetime Warranty | AC34: No | AD34: Yes | AE34: Lead | AF34: Warning Cancer and Reproductive Harm - www.p65warnings.ca.gov | AG34: WARNING-Cancer and Reproductive Harm – www.P65Warnings.ca.gov | AH34: https://www.dropbox.com/s/enhlzg9k6i9fz1l/SW-0026S-5%20angle%2020181101.jpg?dl=0 | AI34: https://www.dropbox.com/s/uhhc2d9ydwjeqy9/SW-0026S-5.jpg?dl=0 | AM34: https://xssights.com/content/Install%20Instructions/General%20Handgun%20Installation.pdf
A35: DXT | B35: =_xlfn.XLOOKUP(C35,'Kit to Family'!A:A,'Kit to Family'!G:G) -> Std | C35: SW-0026S-6 | D35: DXT Standard Dot - S&W M&P CORE Suppressor Hgt | E35: 647533045544 | F35: Phaseout | H35: 129.99 | J35: =ROUNDUP(H35*1.1,0)-0.01 -> 142.99 | K35: S&W | L35: Pistol | M35: Pouch | N35: 0.5 | O35: 5.5 | P35: 5 | Q35: 0.5 | R35: USA | S35: 9305.10.0090 | T35: The XS DXT Standard Dot night sight is a superior defensive sight set. Suppressor height sights, fit Smith & WEsson M&P CORE models. Precision machined in Fort Worth, TX, XS Sights feature a Standard Dot Tritium front sight and express rear sight with a vertical tritium stripe for fast sight acquisition in all light conditions. Standard Dot is larger than most fronts to be seen under stress, but covers less of the target than the Big Dot. White dot reflects ambient light for visibility in low light. Shallow V-Notch rear provides an unobstructed view of the front sight, along with a greater field of view down range, especially when moving and shooting. Day-Light, Half-Light, or Low-Light, just "dot the i" and center the dot over your target within 15 yards. Outside Diameter Standard Dot 0.140"; fits in common holsters. Installation might require filing to fit sight to dovetail, do not use a sight press/pusher tool. | U35: Steel sight with blued finish | V35: Green tritium front and rear | W35: White ring front | X35: Limited Lifetime Warranty | AC35: No | AD35: Yes | AE35: Lead | AF35: Warning Cancer and Reproductive Harm - www.p65warnings.ca.gov | AG35: WARNING-Cancer and Reproductive Harm – www.P65Warnings.ca.gov | AH35: https://www.dropbox.com/s/7s4k5ovvbygx31f/SW-0026S-6%20angle%2020171101.jpg?dl=0 | AI35: https://www.dropbox.com/s/v22nx8su841z3qu/SW-0026S-6.jpg?dl=0 | AM35: https://xssights.com/content/Install%20Instructions/General%20Handgun%20Installation.pdf
